BEGIN:VCALENDAR
VERSION:2.0
PRODID:-//La maleta de Lili - ECPv6.15.20//NONSGML v1.0//EN
CALSCALE:GREGORIAN
METHOD:PUBLISH
X-WR-CALNAME:La maleta de Lili
X-ORIGINAL-URL:https://lamaletadelili.com
X-WR-CALDESC:Eventos para La maleta de Lili
REFRESH-INTERVAL;VALUE=DURATION:PT1H
X-Robots-Tag:noindex
X-PUBLISHED-TTL:PT1H
BEGIN:VTIMEZONE
TZID:Europe/Madrid
BEGIN:DAYLIGHT
TZOFFSETFROM:+0100
TZOFFSETTO:+0200
TZNAME:CEST
DTSTART:20210328T010000
END:DAYLIGHT
BEGIN:STANDARD
TZOFFSETFROM:+0200
TZOFFSETTO:+0100
TZNAME:CET
DTSTART:20211031T010000
END:STANDARD
BEGIN:DAYLIGHT
TZOFFSETFROM:+0100
TZOFFSETTO:+0200
TZNAME:CEST
DTSTART:20220327T010000
END:DAYLIGHT
BEGIN:STANDARD
TZOFFSETFROM:+0200
TZOFFSETTO:+0100
TZNAME:CET
DTSTART:20221030T010000
END:STANDARD
BEGIN:DAYLIGHT
TZOFFSETFROM:+0100
TZOFFSETTO:+0200
TZNAME:CEST
DTSTART:20230326T010000
END:DAYLIGHT
BEGIN:STANDARD
TZOFFSETFROM:+0200
TZOFFSETTO:+0100
TZNAME:CET
DTSTART:20231029T010000
END:STANDARD
END:VTIMEZONE
BEGIN:VEVENT
DTSTART;TZID=Europe/Madrid:20220810T190000
DTEND;TZID=Europe/Madrid:20220810T200000
DTSTAMP:20260423T210105
CREATED:20220704T100036Z
LAST-MODIFIED:20260103T122504Z
UID:15354-1660158000-1660161600@lamaletadelili.com
SUMMARY:Historias Refrescantes
DESCRIPTION:Dentro de la programación cultural del verano de Almaraz de Duero\, participo con una sesión de cuentos llena de Historias Refrescantes para pasar el calor. \nLa sesión se llevará a cabo en los jardines al lado del piscina Municipal a las 19:00h \n¡Os espero!
URL:https://lamaletadelili.com/agenda/historias-refrescantes/
CATEGORIES:Semana Cultural
ATTACH;FMTTYPE=image/jpeg:https://lamaletadelili.com/wp-content/uploads/2023/11/Historias.jpg
END:VEVENT
END:VCALENDAR