BEGIN:VCALENDAR
VERSION:2.0
PRODID:-//La maleta de Lili - ECPv6.15.20//NONSGML v1.0//EN
CALSCALE:GREGORIAN
METHOD:PUBLISH
X-ORIGINAL-URL:https://lamaletadelili.com/ca/
X-WR-CALDESC:Esdeveniments per La maleta de Lili
REFRESH-INTERVAL;VALUE=DURATION:PT1H
X-Robots-Tag:noindex
X-PUBLISHED-TTL:PT1H
BEGIN:VTIMEZONE
TZID:Europe/Madrid
BEGIN:DAYLIGHT
TZOFFSETFROM:+0100
TZOFFSETTO:+0200
TZNAME:CEST
DTSTART:20220327T010000
END:DAYLIGHT
BEGIN:STANDARD
TZOFFSETFROM:+0200
TZOFFSETTO:+0100
TZNAME:CET
DTSTART:20221030T010000
END:STANDARD
BEGIN:DAYLIGHT
TZOFFSETFROM:+0100
TZOFFSETTO:+0200
TZNAME:CEST
DTSTART:20230326T010000
END:DAYLIGHT
BEGIN:STANDARD
TZOFFSETFROM:+0200
TZOFFSETTO:+0100
TZNAME:CET
DTSTART:20231029T010000
END:STANDARD
BEGIN:DAYLIGHT
TZOFFSETFROM:+0100
TZOFFSETTO:+0200
TZNAME:CEST
DTSTART:20240331T010000
END:DAYLIGHT
BEGIN:STANDARD
TZOFFSETFROM:+0200
TZOFFSETTO:+0100
TZNAME:CET
DTSTART:20241027T010000
END:STANDARD
END:VTIMEZONE
BEGIN:VEVENT
DTSTART;TZID=Europe/Madrid:20230211T103000
DTEND;TZID=Europe/Madrid:20230211T133000
DTSTAMP:20260424T200755
CREATED:20230105T120622Z
LAST-MODIFIED:20231016T085333Z
UID:14149-1676111400-1676122200@lamaletadelili.com
SUMMARY:Espai Efímer Literari: El món de Lewis Carroll
DESCRIPTION:Charles Lutwidge Dodgson\, més conegut com Lewis Carroll\, va ser un ser un diaca anglicà matemàtic\, fotògraf i escriptor.\nLes seves obres més conegudes : Alicia en el país de las maravillas i la seva continuació\, A través del espejo y lo que Alicia encontró allí.\nAquests mons creats per aquest autor arriben a la Sala Infantil.\nAtrevir-vos a endisar-us dins delseu món món\, atrevir-vos a jugar al tabler d’escacs\, a resoldre endevinalles i vigileu molt de no perdre’t dins del laberint.
URL:https://lamaletadelili.com/ca/agenda/espai-efimer-literari-el-mon-de-lewis-carroll/
LOCATION:Biblioteca Mestre Martí Tauler\, Carrer Aribau\, 5\, Rubí\, Barcelona\, 08191\, España
CATEGORIES:Espais Efímers Literaris
ATTACH;FMTTYPE=image/jpeg:https://lamaletadelili.com/wp-content/uploads/2023/01/El-mon-de-Lewis-Carroll.jpeg
END:VEVENT
END:VCALENDAR