BEGIN:VCALENDAR
VERSION:2.0
PRODID:-//La maleta de Lili - ECPv6.15.20//NONSGML v1.0//EN
CALSCALE:GREGORIAN
METHOD:PUBLISH
X-WR-CALNAME:La maleta de Lili
X-ORIGINAL-URL:https://lamaletadelili.com/ca/
X-WR-CALDESC:Esdeveniments per La maleta de Lili
REFRESH-INTERVAL;VALUE=DURATION:PT1H
X-Robots-Tag:noindex
X-PUBLISHED-TTL:PT1H
BEGIN:VTIMEZONE
TZID:Europe/Madrid
BEGIN:DAYLIGHT
TZOFFSETFROM:+0100
TZOFFSETTO:+0200
TZNAME:CEST
DTSTART:20200329T010000
END:DAYLIGHT
BEGIN:STANDARD
TZOFFSETFROM:+0200
TZOFFSETTO:+0100
TZNAME:CET
DTSTART:20201025T010000
END:STANDARD
BEGIN:DAYLIGHT
TZOFFSETFROM:+0100
TZOFFSETTO:+0200
TZNAME:CEST
DTSTART:20210328T010000
END:DAYLIGHT
BEGIN:STANDARD
TZOFFSETFROM:+0200
TZOFFSETTO:+0100
TZNAME:CET
DTSTART:20211031T010000
END:STANDARD
BEGIN:DAYLIGHT
TZOFFSETFROM:+0100
TZOFFSETTO:+0200
TZNAME:CEST
DTSTART:20220327T010000
END:DAYLIGHT
BEGIN:STANDARD
TZOFFSETFROM:+0200
TZOFFSETTO:+0100
TZNAME:CET
DTSTART:20221030T010000
END:STANDARD
END:VTIMEZONE
BEGIN:VEVENT
DTSTART;TZID=Europe/Madrid:20210615T181500
DTEND;TZID=Europe/Madrid:20210615T184500
DTSTAMP:20260424T075520
CREATED:20210529T173216Z
LAST-MODIFIED:20231016T092934Z
UID:10344-1623780900-1623782700@lamaletadelili.com
SUMMARY:Juguem!
DESCRIPTION:La terrassa de la Biblioteca Mestre Martí Tauler serà l’escenari de la sessió de Contes per Menuts. \nUn espai obert i a l’aire lliure per jugar i experimentar amb els llibres de Tullet.
URL:https://lamaletadelili.com/ca/agenda/juguem/
LOCATION:Biblioteca Mestre Martí Tauler\, Carrer Aribau\, 5\, Rubí\, Barcelona\, 08191\, España
CATEGORIES:Contes per Menuts
ATTACH;FMTTYPE=image/jpeg:https://lamaletadelili.com/wp-content/uploads/2021/05/Juguem-scaled.jpg
END:VEVENT
END:VCALENDAR