BEGIN:VCALENDAR
VERSION:2.0
PRODID:-//La maleta de Lili - ECPv6.15.20//NONSGML v1.0//EN
CALSCALE:GREGORIAN
METHOD:PUBLISH
X-WR-CALNAME:La maleta de Lili
X-ORIGINAL-URL:https://lamaletadelili.com/ca/
X-WR-CALDESC:Esdeveniments per La maleta de Lili
REFRESH-INTERVAL;VALUE=DURATION:PT1H
X-Robots-Tag:noindex
X-PUBLISHED-TTL:PT1H
BEGIN:VTIMEZONE
TZID:Europe/Madrid
BEGIN:DAYLIGHT
TZOFFSETFROM:+0100
TZOFFSETTO:+0200
TZNAME:CEST
DTSTART:20230326T010000
END:DAYLIGHT
BEGIN:STANDARD
TZOFFSETFROM:+0200
TZOFFSETTO:+0100
TZNAME:CET
DTSTART:20231029T010000
END:STANDARD
BEGIN:DAYLIGHT
TZOFFSETFROM:+0100
TZOFFSETTO:+0200
TZNAME:CEST
DTSTART:20240331T010000
END:DAYLIGHT
BEGIN:STANDARD
TZOFFSETFROM:+0200
TZOFFSETTO:+0100
TZNAME:CET
DTSTART:20241027T010000
END:STANDARD
BEGIN:DAYLIGHT
TZOFFSETFROM:+0100
TZOFFSETTO:+0200
TZNAME:CEST
DTSTART:20250330T010000
END:DAYLIGHT
BEGIN:STANDARD
TZOFFSETFROM:+0200
TZOFFSETTO:+0100
TZNAME:CET
DTSTART:20251026T010000
END:STANDARD
END:VTIMEZONE
BEGIN:VEVENT
DTSTART;TZID=Europe/Madrid:20241026T110000
DTEND;TZID=Europe/Madrid:20241026T130000
DTSTAMP:20260423T022004
CREATED:20241010T082008Z
LAST-MODIFIED:20260126T084211Z
UID:16345-1729940400-1729947600@lamaletadelili.com
SUMMARY:La màgia de la tardor en família
DESCRIPTION:L’arribada de la tardor omple els carrers de fulles caigudes dels arbres\, de colors taronjes\, vermells roigs i marrons deixant escanpar de tan en tan els raigs del sol. \nDes de La maleta de Lili amb la il.lustradora Cristina d’Arcos volem festejar amb vosaltres aquesta estació tan plena de màgia amb un dissabte familiar. Un matí per escoltar històries de cargols\, de fulles… descobrint nous llibres i un taller d’experimentació amb elements naturals. \nAl finalitzar cada infant es portarà a casa seva una sorpressa. \n  \nL’activitat es realizarà el dissabte 26 des de les 11h fins les 13 h a l’Espai 2estones Multiespai de creació \nINSCRIPCIONS a hola@lamletadelili.com \nPreu: 15 € per família
URL:https://lamaletadelili.com/ca/agenda/la-magia-de-la-tardor-en-familia-taller-experimental-i-contes-de-la-tardor/
LOCATION:2 EStones Mutiespai de Creació\, Passatge de Frigola\, 27\, Barcelona\, 08012\, España
CATEGORIES:Dissabtes de Contes
ATTACH;FMTTYPE=image/jpeg:https://lamaletadelili.com/wp-content/uploads/2024/10/La-magia-de-la-tardor-en-familia.jpg
END:VEVENT
END:VCALENDAR