BEGIN:VCALENDAR
VERSION:2.0
PRODID:-//La maleta de Lili - ECPv6.15.20//NONSGML v1.0//EN
CALSCALE:GREGORIAN
METHOD:PUBLISH
X-WR-CALNAME:La maleta de Lili
X-ORIGINAL-URL:https://lamaletadelili.com/ca/
X-WR-CALDESC:Esdeveniments per La maleta de Lili
REFRESH-INTERVAL;VALUE=DURATION:PT1H
X-Robots-Tag:noindex
X-PUBLISHED-TTL:PT1H
BEGIN:VTIMEZONE
TZID:Europe/Madrid
BEGIN:DAYLIGHT
TZOFFSETFROM:+0100
TZOFFSETTO:+0200
TZNAME:CEST
DTSTART:20230326T010000
END:DAYLIGHT
BEGIN:STANDARD
TZOFFSETFROM:+0200
TZOFFSETTO:+0100
TZNAME:CET
DTSTART:20231029T010000
END:STANDARD
BEGIN:DAYLIGHT
TZOFFSETFROM:+0100
TZOFFSETTO:+0200
TZNAME:CEST
DTSTART:20240331T010000
END:DAYLIGHT
BEGIN:STANDARD
TZOFFSETFROM:+0200
TZOFFSETTO:+0100
TZNAME:CET
DTSTART:20241027T010000
END:STANDARD
BEGIN:DAYLIGHT
TZOFFSETFROM:+0100
TZOFFSETTO:+0200
TZNAME:CEST
DTSTART:20250330T010000
END:DAYLIGHT
BEGIN:STANDARD
TZOFFSETFROM:+0200
TZOFFSETTO:+0100
TZNAME:CET
DTSTART:20251026T010000
END:STANDARD
END:VTIMEZONE
BEGIN:VEVENT
DTSTART;TZID=Europe/Madrid:20240223T170000
DTEND;TZID=Europe/Madrid:20240223T180000
DTSTAMP:20260424T001133
CREATED:20240125T112028Z
LAST-MODIFIED:20240202T182221Z
UID:15858-1708707600-1708711200@lamaletadelili.com
SUMMARY:El Carnaval dels Animals
DESCRIPTION:Arriba El Carnaval! \nVolem convidar-us a “El carnaval dels animals” de Camille Saint-Saëns.\nUna desfilada d’animals\, alegre i divertida\, encapçalada pel rei Lleó omplirà la Sala d’Actes de la Biblioteca Vall d’Alfatà de Santa Susanna.\nOn vosaltres\, infants i famílies sereu també protagonistes imitant els sons: rugir\, cloquejar\, bramar… dels\, seus amics\, els animals.
URL:https://lamaletadelili.com/ca/agenda/el-carnaval-dels-animals/
LOCATION:Biblioteca Vall d’Alfatà\, Rambla Països Catalans\,2\, Santa Susanna\, Barcelona\, España
CATEGORIES:L'hora del Conte
ATTACH;FMTTYPE=image/jpeg:https://lamaletadelili.com/wp-content/uploads/2022/02/El-carnaval-de-los-animales-1.jpg
END:VEVENT
END:VCALENDAR