BEGIN:VCALENDAR
VERSION:2.0
PRODID:-//La maleta de Lili - ECPv6.15.20//NONSGML v1.0//EN
CALSCALE:GREGORIAN
METHOD:PUBLISH
X-ORIGINAL-URL:https://lamaletadelili.com/ca/
X-WR-CALDESC:Esdeveniments per La maleta de Lili
REFRESH-INTERVAL;VALUE=DURATION:PT1H
X-Robots-Tag:noindex
X-PUBLISHED-TTL:PT1H
BEGIN:VTIMEZONE
TZID:Europe/Madrid
BEGIN:DAYLIGHT
TZOFFSETFROM:+0100
TZOFFSETTO:+0200
TZNAME:CEST
DTSTART:20230326T010000
END:DAYLIGHT
BEGIN:STANDARD
TZOFFSETFROM:+0200
TZOFFSETTO:+0100
TZNAME:CET
DTSTART:20231029T010000
END:STANDARD
BEGIN:DAYLIGHT
TZOFFSETFROM:+0100
TZOFFSETTO:+0200
TZNAME:CEST
DTSTART:20240331T010000
END:DAYLIGHT
BEGIN:STANDARD
TZOFFSETFROM:+0200
TZOFFSETTO:+0100
TZNAME:CET
DTSTART:20241027T010000
END:STANDARD
BEGIN:DAYLIGHT
TZOFFSETFROM:+0100
TZOFFSETTO:+0200
TZNAME:CEST
DTSTART:20250330T010000
END:DAYLIGHT
BEGIN:STANDARD
TZOFFSETFROM:+0200
TZOFFSETTO:+0100
TZNAME:CET
DTSTART:20251026T010000
END:STANDARD
END:VTIMEZONE
BEGIN:VEVENT
DTSTART;TZID=Europe/Madrid:20240212T173000
DTEND;TZID=Europe/Madrid:20240212T180000
DTSTAMP:20260423T102541
CREATED:20240110T091815Z
LAST-MODIFIED:20240110T091923Z
UID:15785-1707759000-1707760800@lamaletadelili.com
SUMMARY:Cançons\, jocs de falda i poesia
DESCRIPTION:Així fan\, fan els petit bonics titelles\,  \naixí fan fan tres voltestes i se’n van \n\nUna proposta molt participativa basada amb els jocs de falda: arri\, arri tatanet…\, les cançons infantils com sol\, solet i petits poemes. Es tracta de les primeres aproximacions als llibres i contes infantils. La seva finalitat és captar la seva atenció cap les paraules i les imatges.\nAmb les cantarelles\, els ritmes entonats de les cançons\, els jocs de falda i la poesia tant els infanst com els adults són els protagonistes d’aquesta proposta tan especial. \n“Acaronar\, bressolar\, deixar anar tot mirant-se als ulls provoca a l’infant un estat de plaer.” \n 
URL:https://lamaletadelili.com/ca/agenda/cancons-jocs-de-falda-i-poesia-21/
LOCATION:Biblioteca La Roca del Vallès\, Carrer Lope de Vega\, 10\, La Roca del Vallès\, Barcelona\, 08430\, España
ATTACH;FMTTYPE=image/jpeg:https://lamaletadelili.com/wp-content/uploads/2020/03/La-maleta-de-Lili-Contes-Encantats.jpg
END:VEVENT
END:VCALENDAR