BEGIN:VCALENDAR
VERSION:2.0
PRODID:-//La maleta de Lili - ECPv6.15.20//NONSGML v1.0//EN
CALSCALE:GREGORIAN
METHOD:PUBLISH
X-WR-CALNAME:La maleta de Lili
X-ORIGINAL-URL:https://lamaletadelili.com/ca/
X-WR-CALDESC:Esdeveniments per La maleta de Lili
REFRESH-INTERVAL;VALUE=DURATION:PT1H
X-Robots-Tag:noindex
X-PUBLISHED-TTL:PT1H
BEGIN:VTIMEZONE
TZID:Europe/Madrid
BEGIN:DAYLIGHT
TZOFFSETFROM:+0100
TZOFFSETTO:+0200
TZNAME:CEST
DTSTART:20200329T010000
END:DAYLIGHT
BEGIN:STANDARD
TZOFFSETFROM:+0200
TZOFFSETTO:+0100
TZNAME:CET
DTSTART:20201025T010000
END:STANDARD
BEGIN:DAYLIGHT
TZOFFSETFROM:+0100
TZOFFSETTO:+0200
TZNAME:CEST
DTSTART:20210328T010000
END:DAYLIGHT
BEGIN:STANDARD
TZOFFSETFROM:+0200
TZOFFSETTO:+0100
TZNAME:CET
DTSTART:20211031T010000
END:STANDARD
BEGIN:DAYLIGHT
TZOFFSETFROM:+0100
TZOFFSETTO:+0200
TZNAME:CEST
DTSTART:20220327T010000
END:DAYLIGHT
BEGIN:STANDARD
TZOFFSETFROM:+0200
TZOFFSETTO:+0100
TZNAME:CET
DTSTART:20221030T010000
END:STANDARD
END:VTIMEZONE
BEGIN:VEVENT
DTSTART;TZID=Europe/Madrid:20211009T110000
DTEND;TZID=Europe/Madrid:20211009T113000
DTSTAMP:20260425T152629
CREATED:20210727T171419Z
LAST-MODIFIED:20231104T121640Z
UID:10474-1633777200-1633779000@lamaletadelili.com
SUMMARY:Cançons\, jocs de falda i poesia
DESCRIPTION:Us convido a gaudir d’un espai i un temps en família per: \n\nRecordar aquells jocs de mans que vau heredar de la teva mare o avia.\nCantar\, entonar cançons de la infància.\nJugar al ritme dels jocs de falda.\nGaudir de la fluidesa de la poesia.\n\nA més a més\, totes les famílies participants tindràn un dossier amb tots els jocs de falda\, les cançons i la bibliografia dels llibres escogits. \nUs espero a la Sala Infantil\, a les 17:30 h\, de la Biblioteca El Molí de Molins de Rei
URL:https://lamaletadelili.com/ca/agenda/cancons-jocs-de-falda-i-poesia-4/
LOCATION:Biblioteca La Ginesta\, Plaça de l'U d'Octubre de 2017\, 1\, Begues\, Barcelona\, 08859\, España
CATEGORIES:Sessions de Contes
ATTACH;FMTTYPE=image/jpeg:https://lamaletadelili.com/wp-content/uploads/2021/07/Cancons-jocs-de-falda-i-poesia-scaled.jpeg
END:VEVENT
END:VCALENDAR