BEGIN:VCALENDAR
VERSION:2.0
PRODID:-//La maleta de Lili - ECPv6.15.20//NONSGML v1.0//EN
CALSCALE:GREGORIAN
METHOD:PUBLISH
X-WR-CALNAME:La maleta de Lili
X-ORIGINAL-URL:https://lamaletadelili.com/ca/
X-WR-CALDESC:Esdeveniments per La maleta de Lili
REFRESH-INTERVAL;VALUE=DURATION:PT1H
X-Robots-Tag:noindex
X-PUBLISHED-TTL:PT1H
BEGIN:VTIMEZONE
TZID:Europe/Madrid
BEGIN:DAYLIGHT
TZOFFSETFROM:+0100
TZOFFSETTO:+0200
TZNAME:CEST
DTSTART:20200329T010000
END:DAYLIGHT
BEGIN:STANDARD
TZOFFSETFROM:+0200
TZOFFSETTO:+0100
TZNAME:CET
DTSTART:20201025T010000
END:STANDARD
BEGIN:DAYLIGHT
TZOFFSETFROM:+0100
TZOFFSETTO:+0200
TZNAME:CEST
DTSTART:20210328T010000
END:DAYLIGHT
BEGIN:STANDARD
TZOFFSETFROM:+0200
TZOFFSETTO:+0100
TZNAME:CET
DTSTART:20211031T010000
END:STANDARD
BEGIN:DAYLIGHT
TZOFFSETFROM:+0100
TZOFFSETTO:+0200
TZNAME:CEST
DTSTART:20220327T010000
END:DAYLIGHT
BEGIN:STANDARD
TZOFFSETFROM:+0200
TZOFFSETTO:+0100
TZNAME:CET
DTSTART:20221030T010000
END:STANDARD
END:VTIMEZONE
BEGIN:VEVENT
DTSTART;TZID=Europe/Madrid:20211218T110000
DTEND;TZID=Europe/Madrid:20211218T113000
DTSTAMP:20260425T054313
CREATED:20211008T073252Z
LAST-MODIFIED:20231016T090324Z
UID:10911-1639825200-1639827000@lamaletadelili.com
SUMMARY:L'arbre dels contes
DESCRIPTION:Ara ve Nadal\, matarem el gall\ni a la tia Pepa li’n darem un tall \nAra ve Nadal\, matarem el porc\ni a la tia Pepa li’n darem un tros  \nAra ve Nadal\, mellarem turrons\ni amb una guitarra cantarem cançons   \n  \nCançons de Nadal acompanyades del violí de Javi amb petites històries nadalenques us esperen a la Sala Infantil de la Biblioteca Can Barateu (Tiana) \n 
URL:https://lamaletadelili.com/ca/agenda/larbre-dels-contes/
LOCATION:Biblioteca Can Barateu\, c/ Lola Anglada\, 10\, Tiana\, Barcelona\, 08391
CATEGORIES:Sessions de Contes
ATTACH;FMTTYPE=image/jpeg:https://lamaletadelili.com/wp-content/uploads/2021/10/Larbre-dels-contes.jpg
END:VEVENT
END:VCALENDAR