BEGIN:VCALENDAR
VERSION:2.0
PRODID:-//La maleta de Lili - ECPv6.15.20//NONSGML v1.0//EN
CALSCALE:GREGORIAN
METHOD:PUBLISH
X-ORIGINAL-URL:https://lamaletadelili.com/ca/
X-WR-CALDESC:Esdeveniments per La maleta de Lili
REFRESH-INTERVAL;VALUE=DURATION:PT1H
X-Robots-Tag:noindex
X-PUBLISHED-TTL:PT1H
BEGIN:VTIMEZONE
TZID:Europe/Madrid
BEGIN:DAYLIGHT
TZOFFSETFROM:+0100
TZOFFSETTO:+0200
TZNAME:CEST
DTSTART:20230326T010000
END:DAYLIGHT
BEGIN:STANDARD
TZOFFSETFROM:+0200
TZOFFSETTO:+0100
TZNAME:CET
DTSTART:20231029T010000
END:STANDARD
BEGIN:DAYLIGHT
TZOFFSETFROM:+0100
TZOFFSETTO:+0200
TZNAME:CEST
DTSTART:20240331T010000
END:DAYLIGHT
BEGIN:STANDARD
TZOFFSETFROM:+0200
TZOFFSETTO:+0100
TZNAME:CET
DTSTART:20241027T010000
END:STANDARD
BEGIN:DAYLIGHT
TZOFFSETFROM:+0100
TZOFFSETTO:+0200
TZNAME:CEST
DTSTART:20250330T010000
END:DAYLIGHT
BEGIN:STANDARD
TZOFFSETFROM:+0200
TZOFFSETTO:+0100
TZNAME:CET
DTSTART:20251026T010000
END:STANDARD
END:VTIMEZONE
BEGIN:VEVENT
DTSTART;TZID=Europe/Madrid:20240302T110000
DTEND;TZID=Europe/Madrid:20240302T113000
DTSTAMP:20260426T023131
CREATED:20240108T100013Z
LAST-MODIFIED:20240208T075110Z
UID:15418-1709377200-1709379000@lamaletadelili.com
SUMMARY:Taller de Cançons\, jocs de falda i poesia
DESCRIPTION:“Així fan\, fan els petits bonics titelles\, així fan\, fan tres voltetes i se’n van.\nTot picant de mans els petits bonics titelles\, tot picant de mans els titelles s’han fet grans”. \n  \nAquest any 2024 viatjaré fins al Taller de Lectura  en Girona per trobar-me amb els més petis de la casa i passar una bona estona rodejats de contes\, cançons i jocs de falda. \nAcaronar\, bressolar\, deixar anar tot mirant-se als ulls provoca a l’infant un estat de plaer.\nAmb les cantarelles\, els ritmes entonats de les cançons i la poesia tant els infants com els adults són els protagonistes d’aquesta proposta tan especial
URL:https://lamaletadelili.com/ca/agenda/taller-de-cancons-jocs-de-falda-i-poesia-6/
LOCATION:El Taller de Lectura\, C/De Salt 25 D.2\, Girona\, Girona\, 17005\, España
CATEGORIES:Taller de Contes
ATTACH;FMTTYPE=image/jpeg:https://lamaletadelili.com/wp-content/uploads/2019/07/LA-MALETA-DE-LA-LILI29.jpg
END:VEVENT
END:VCALENDAR